BEGIN:VCALENDAR
VERSION:2.0
PRODID:wp.gruene-rodgau.de
METHOD:PUBLISH
BEGIN:VTIMEZONE
TZID:Europe/Berlin
X-LIC-LOCATION:Europe/Berlin
BEGIN:DAYLIGHT
TZOFFSETFROM:+0100
TZOFFSETTO:+0200
TZNAME:CEST
DTSTART:19700329T020000
RRULE:FREQ=YEARLY;INTERVAL=1;BYDAY=-1SU;BYMONTH=3
END:DAYLIGHT
BEGIN:STANDARD
TZOFFSETFROM:+0200
TZOFFSETTO:+0100
TZNAME:CET
DTSTART:19701025T030000
RRULE:FREQ=YEARLY;INTERVAL=1;BYDAY=-1SU;BYMONTH=10
END:STANDARD
END:VTIMEZONE
BEGIN:VEVENT
UID:8e61949da4e11dca9744ff4aaea61998@wp.gruene-rodgau.de
URL;VALUE=URI:https://www.gruene-offenbach-land.de/termin/save-the-date-k
 reismitgliederversammlung/
LOCATION:
SUMMARY:Save the date: Kreismitgliederversammlung
DESCRIPTION;ALTREP="data:text/html,%3Cp%3E%3C%2Fp%3E%3Cp%3E%3Ca%20href%3D
 %22https%3A%2F%2Fwww.gruene-offenbach-land.de%2Ftermin%2Fsave-the-date-kr
 eismitgliederversammlung%2F%22%20title%3D%22Link%20in%20einem%20neuen%20T
 ab%20%C3%B6ffnen%22%20target%3D%22_blank%22%3EWeitere%20Informationen%26n
 bsp%3B%3Ci%20class%3D%22fa-solid%20fa-up-right-from-square%22%3E%3C%2Fi%3
 E%3C%2Fa%3E%3C%2Fp%3E":Weitere Informationen 
CLASS:PUBLIC
DTSTART;TZID=Europe/Berlin:20260618T190000
DTEND;TZID=Europe/Berlin:20260618T213000
DTSTAMP:20260422T103913
END:VEVENT
END:VCALENDAR