BEGIN:VCALENDAR
VERSION:2.0
PRODID:wp.gruene-rodgau.de
METHOD:PUBLISH
BEGIN:VTIMEZONE
TZID:Europe/Berlin
X-LIC-LOCATION:Europe/Berlin
BEGIN:DAYLIGHT
TZOFFSETFROM:+0100
TZOFFSETTO:+0200
TZNAME:CEST
DTSTART:19700329T020000
RRULE:FREQ=YEARLY;INTERVAL=1;BYDAY=-1SU;BYMONTH=3
END:DAYLIGHT
BEGIN:STANDARD
TZOFFSETFROM:+0200
TZOFFSETTO:+0100
TZNAME:CET
DTSTART:19701025T030000
RRULE:FREQ=YEARLY;INTERVAL=1;BYDAY=-1SU;BYMONTH=10
END:STANDARD
END:VTIMEZONE
BEGIN:VEVENT
UID:d233434313f081303f6ba91f9e1310d8@wp.gruene-rodgau.de
URL;VALUE=URI:https://www.gruene-offenbach-land.de/termin/neumitgliedertr
 effen/
LOCATION:Geschäftstelle Dietzenbach, Frankfurter Straße 53, Dietzenbach
 , 63128
SUMMARY:Neumitgliedertreffen
DESCRIPTION;ALTREP="data:text/html,%3Cp%3EWir%20laden%20alle%20neuen%20Mi
 tglieder%20seit%20Sommer%202025%20zu%20unserem%20Neumitgliedertreffen%20e
 in.%20Weitere%20Details%20folgen.%3C%2Fp%3E%3Cp%3E%3Ca%20href%3D%22https%
 3A%2F%2Fwww.gruene-offenbach-land.de%2Ftermin%2Fneumitgliedertreffen%2F%2
 2%20title%3D%22Link%20in%20einem%20neuen%20Tab%20%C3%B6ffnen%22%20target%
 3D%22_blank%22%3EWeitere%20Informationen%26nbsp%3B%3Ci%20class%3D%22fa-so
 lid%20fa-up-right-from-square%22%3E%3C%2Fi%3E%3C%2Fa%3E%3C%2Fp%3E":Wir la
 den alle neuen Mitglieder seit Sommer 2025 zu unserem Neumitgliedertreffe
 n ein. Weitere Details folgen.Weitere Informationen 
CLASS:PUBLIC
DTSTART;TZID=Europe/Berlin:20260521T190000
DTEND;TZID=Europe/Berlin:20260521T210000
DTSTAMP:20260420T113900
END:VEVENT
END:VCALENDAR