BEGIN:VCALENDAR
VERSION:2.0
PRODID:wp.gruene-rodgau.de
METHOD:PUBLISH
BEGIN:VTIMEZONE
TZID:Europe/Berlin
X-LIC-LOCATION:Europe/Berlin
BEGIN:DAYLIGHT
TZOFFSETFROM:+0100
TZOFFSETTO:+0200
TZNAME:CEST
DTSTART:19700329T020000
RRULE:FREQ=YEARLY;INTERVAL=1;BYDAY=-1SU;BYMONTH=3
END:DAYLIGHT
BEGIN:STANDARD
TZOFFSETFROM:+0200
TZOFFSETTO:+0100
TZNAME:CET
DTSTART:19701025T030000
RRULE:FREQ=YEARLY;INTERVAL=1;BYDAY=-1SU;BYMONTH=10
END:STANDARD
END:VTIMEZONE
BEGIN:VEVENT
UID:f19be54770b129184c1115a45a0c5f79@wp.gruene-rodgau.de
URL;VALUE=URI:https://wp.gruene-rodgau.de/termine/mitgliederversammlung/
LOCATION:Sozialzentrum Puiseauxplatz 3
SUMMARY:Mitgliederversammlung
DESCRIPTION;ALTREP="data:text/html,%3Cp%3E%3C%2Fp%3E":
CLASS:PUBLIC
DTSTART;TZID=Europe/Berlin:20260422T190000
DTEND;TZID=Europe/Berlin:20260422T220000
DTSTAMP:20260420T114227
END:VEVENT
END:VCALENDAR